BEGIN:VCALENDAR
VERSION:2.0
X-WR-CALNAME:Veranstaltungen
METHOD:PUBLISH
BEGIN:VEVENT
CLASS:PUBLIC
CREATED:20260421T120250Z
DESCRIPTION:nullSandweiler/ed-9521384
DTEND;TZID="Europe/Berlin":20260509T200000
DTSTAMP:20260421T120250Z
DTSTART;TZID="Europe/Berlin":20260509T200000
LAST-MODIFIED:20260421T120250Z
LOCATION:Centre Culturel de Sandweiler  rue Principale 20 L-5240 SANDWEILER
PRIORITY:5
SEQUENCE:0
SUMMARY;LANGUAGE=de:HALLO UDO - EIN ABEND UDO JÜRGENS
TRANSP:OPAQUE
UID:20260421T120250Z-uidGen@cc5241d592a4
X-MICROSOFT-CDO-BUSYSTATUS:BUSY
X-MICROSOFT-CDO-IMPORTANCE:1
X-MS-OLK-AUTOFILLLOCATION:FALSE
BEGIN:VALARM
TRIGGER:-PT1440M
ACTION:DISPLAY
DESCRIPTION:Reminder
END:VALARM
END:VEVENT
END:VCALENDAR

