BEGIN:VCALENDAR
VERSION:2.0
X-WR-CALNAME:Veranstaltungen
METHOD:PUBLISH
BEGIN:VEVENT
CLASS:PUBLIC
CREATED:20260421T114105Z
DESCRIPTION:nullORT Guttland/ed-9520389
DTEND;TZID="Europe/Berlin":20260628T220000
DTSTAMP:20260421T114105Z
DTSTART;TZID="Europe/Berlin":20260628T200000
LAST-MODIFIED:20260421T114105Z
LOCATION:Restaurant Jane @ GRIDX Rue des Trois Cantons 4-6 L-3980 Wickrange
PRIORITY:5
SEQUENCE:0
SUMMARY;LANGUAGE=de:MÖP
TRANSP:OPAQUE
UID:20260421T114105Z-uidGen@cc5241d592a4
X-MICROSOFT-CDO-BUSYSTATUS:BUSY
X-MICROSOFT-CDO-IMPORTANCE:1
X-MS-OLK-AUTOFILLLOCATION:FALSE
BEGIN:VALARM
TRIGGER:-PT1440M
ACTION:DISPLAY
DESCRIPTION:Reminder
END:VALARM
END:VEVENT
END:VCALENDAR

