BEGIN:VCALENDAR
VERSION:2.0
X-WR-CALNAME:Veranstaltungen
METHOD:PUBLISH
BEGIN:VEVENT
CLASS:PUBLIC
CREATED:20260419T160822Z
DESCRIPTION:nullORT Guttland/ed-9509522
DTEND;TZID="Europe/Berlin":20261025T220000
DTSTAMP:20260419T160822Z
DTSTART;TZID="Europe/Berlin":20261025T200000
LAST-MODIFIED:20260419T160822Z
LOCATION:Restaurant Jane @ GRIDX Rue des Trois Cantons 4-6 L-3980 Wickrange
PRIORITY:5
SEQUENCE:0
SUMMARY;LANGUAGE=de:Bartringer-Peckels-Magotteaux Trio
TRANSP:OPAQUE
UID:20260419T160822Z-uidGen@95f8aa98cd43
X-MICROSOFT-CDO-BUSYSTATUS:BUSY
X-MICROSOFT-CDO-IMPORTANCE:1
X-MS-OLK-AUTOFILLLOCATION:FALSE
BEGIN:VALARM
TRIGGER:-PT1440M
ACTION:DISPLAY
DESCRIPTION:Reminder
END:VALARM
END:VEVENT
END:VCALENDAR

